Workbook

Sheet Sheet1
A1: گزارش هفتگی درآمد شهرداری لواسان بر اساس بودجه مصوبه سال 1405 | J1: هفته 18
A2: عنوان درآمدی | B2: بودجه مصوب1405 | C2: سهم به میزان چهار هفته بودجه | D2: وصولی از 1/1 لغایت 1/28 | E2: افزایش /کاهش نسبت به سهم 4هفته | F2: وصولی از ابتدای سال تا 1405/1/28 | G2: درامدی که باید تا پایان هفته وصول می شد (هفته چهارم) | H2: افزایش / کاهش درآمد | L2: درصد واقعی | M2: وصولی از ابتدای سال تا 1403/07/13
E3: (درصد) | L3: =D4/C4*100-100 -> -100
A4: نوسازی | B4: 350000000000 | C4: =B4/52*4 -> 2.6923077e+10 | D4: =$L$16 -> 0 | E4: 66/77- | F4: =$D$4 -> 0 | G4: =B4/52*4 -> 2.6923077e+10 | H4: =F4-G4 -> -2.6923077e+10 | M4: 47266276779
A5: اصناف | B5: 50000000000 | C5: =B5/52*4 -> 3.8461538e+09 | D5: =$L$17 -> 0 | E5: 71/75- | F5: =$D$5 -> 0 | G5: =B5/52*4 -> 3.8461538e+09 | H5: =F5-G5 -> -3.8461538e+09 | L5: =D5/C5*100-100 -> -100 | M5: 8091530932
A6: خدماتی | B6: 200000000000 | C6: =B6/52*4 -> 1.5384615e+10 | D6: =$L$18 -> 0 | E6: 81/80- | F6: =$D$6 -> 0 | G6: =B6/52*4 -> 1.5384615e+10 | H6: =F6-G6 -> -1.5384615e+10
A7: (دریاچه – کشتارکاه – ورزشی – فرهنگسرا – کپی | L7: =D6/C6*100-100 -> -100 | M7: 50900659685
A9: حریم شهر | B9: 0 | D9: 0 | F9: 0 | G9: =D9*17 -> 0 | H9: =F9-G9 -> 0 | M9: 11293800000
A10: *سایر درامدها | B10: =B11-B6-B5-B4 -> 12601300000000 | C10: =B10/52*4 -> 9.6933077e+11 | D10: =$L$19 -> 482151468716 | E10: 59/60- | F10: =$D$10 -> 482151468716 | G10: =B10/52*4 -> 9.6933077e+11 | H10: =F10-G10 -> -4.871793e+11 | M10: 2744865049325
A11: جمع کل بودجه شهرداری | B11: 13201300000000 | C11: =B11/52*4 -> 1.0154846e+12 | D11: =D10+D9+D6+D5+D4 -> 482151468716 | E11: 60/08- | F11: =F10+F9+F6+F5+F4 -> 482151468716 | G11: =B11/52*4 -> 1.0154846e+12 | H11: =F11-G11 -> -5.3333315e+11 | M11: 2871562816120
A12: *سایر درامدها شامل: جریمه کمیسیون ماده صد – تراکم – پروانه – مال الا جاره – عوارض خودرو – قطع اشجار – پلاک ابی – ارزش افزوده | L12: =D11/C11*100-100 -> -52.520062
B13: عنوان | D13: وصولی چهار هفته | E13: وصولی از ابتدای سال تا 28-1-1405
B14: جمع درآمد دریافتی | D14: =$D$11 -> 482151468716 | E14: =$D$11 -> 482151468716
B15: ارزش افزوده | D15: =[1]فرودین!$D$19 -> 0 | E15: =[1]فرودین!$D$19 -> 0 | K15: کل درامد روزانه | L15: =[1]فرودین!$C$33 -> 482151468716 | M15: 86145282107 | N15: 132797595252
K16: نوسازی | L16: =[1]فرودین!$H$34 -> 0 | M16: 3193964852 | N16: 2865292087
B17: ورزشی | C17: فرهنگسرا | D17: دریاچه | E17: کشتارگاه | F17: کپی | G17: جمع کل خدماتی | K17: اصناف | L17: =[1]فرودین!$H$35 -> 0 | M17: 676084000 | N17: 589606000
B18: 201700000 | C18: 0 | D18: 2316012006 | E18: 251700000 | F18: 29700000 | G18: =F18+E18+D18+C18+B18 -> 2799112006 | K18: خدمات | L18: =[1]فرودین!$F$39 -> 0
K19: سایر درامد ها | L19: =L15-L16-L17-L18 -> 482151468716
B20: 15701300000000
B21: 2500000000000
B22: =B20-B21 -> 13201300000000
B24: 13520929792
